Workbook

Sheet Annexe Manuscrit
E1: En Md€ | F1: En Md€
B2: Économies | C2: En Md€ par an | D2: En € par an par foyer | E2: Gain en année 1 | F2: Gain supp. en année pleine
B3: Total des économies | C3: =SUM(C5,C11,C15,C19,C24,C27,C28) -> 236.05467 | D3: 8000 | E3: =SUM(E5,E11,E15,E19,E24,E27,E28) -> 127.35217 | F3: =SUM(F5,F11,F15,F19,F24,F27,F28) -> 108.91168
B4: Economies sur les structures facultatives | C4: =C5+C11 -> 67.006667 | D4: 2280 | E4: =E5+E11 -> 39.104167 | F4: =F5+F11 -> 27.9025
B5: Économies sur le fonctionnement des administrations | C5: =SUM(C6:C10) -> 37.431667 | D5: 1280 | E5: =SUM(E6:E10) -> 30.231667 | F5: =SUM(F6:F10) -> 7.2
B6: Fin des dépenses de fonctionnement des administrations de l'Etat non indispensables | C6: =SUM(E6,F6) -> 3.8 | D6: 130 | E6: ='Détail Economies'!D37 -> 3.8 | F6: -
B7: Fin des dépenses de fonctionnement des échelons locaux non indispensables | C7: =SUM(E7,F7) -> 9.6 | D7: 330 | E7: =Flux!C25 -> 6.1 | F7: =Flux!E25 -> 3.5
A8: O | B8: Fermeture des agences non indispensables, dont interventions en logement, culture, écologie, etc. | C8: =SUM(E8,F8) -> 8.6316667 | D8: 300 | E8: =SUMIFS('Détail Economies'!D:D,'Détail Economies'!$A:$A,"O")-1.052*42/48*10/3 -> 4.9316667 | F8: =SUMIFS('Détail Economies'!E:E,'Détail Economies'!$A:$A,"O") -> 3.7
B9: Extinction des dépenses locales de culture et loisir | C9: =SUM(E9,F9) -> 11.6 | D9: 390 | E9: =Flux!C23 -> 11.6 | F9: -
A10: AVP | B10: Privatisation de l’audiovisuel public | C10: =SUM(E10,F10) -> 3.8 | D10: 130 | E10: =SUMIFS('Détail Economies'!D:D,'Détail Economies'!$A:$A,"AVP") -> 3.8 | F10: -
B11: Économies sur la masse salariale des administrations | C11: =SUM(C12:C13) -> 29.575 | D11: 1000 | E11: =SUM(E12:E13) -> 8.8725 | F11: =SUM(F12:F13) -> 20.7025
B12: Plan de départ des agents administratifs de l'Etat et ses agences | C12: =SUM(E12,F12) -> 9.575 | D12: 330 | E12: ='Détail Economies'!D38+1.052*90/48 -> 2.8725 | F12: =E12*7/3 -> 6.7025
B13: Plan de départ des agents administratifs locaux | C13: =SUM(E13,F13) -> 20 | D13: 670 | E13: =Flux!C26 -> 6 | F13: =E13*7/3 -> 14
B14: Economies sur les subventions | C14: =C15+C19 -> 68.948 | D14: 2330 | E14: =E15+E19 -> 36.148 | F14: =F15+F19 -> 32.8
B15: Économies sur les subventions aux entreprises | C15: =SUM(C16:C18) -> 41.448 | D15: 1400 | E15: =SUM(E16:E18) -> 21.448 | F15: =SUM(F16:F18) -> 20
A16: AE | B16: Extinction des aides aux entreprises pour l’emploi, l'apprentissage et l'insertion (dont France Compétences) | C16: =SUM(E16,F16) -> 22.548 | D16: 770 | E16: =SUMIFS('Détail Economies'!D:D,'Détail Economies'!$A:$A,"AE")-1.052 -> 8.448 | F16: =SUMIFS('Détail Economies'!E:E,'Détail Economies'!$A:$A,"AE")-1.052*7/3 -> 14.1
A17: E | B17: Extinction des aides aux entreprises pour l’investissement (dont France 2030) | C17: =SUM(E17,F17) -> 6.6 | D17: 230 | E17: =SUMIFS('Détail Economies'!D:D,'Détail Economies'!$A:$A,"E") -> 3.3 | F17: =SUMIFS('Détail Economies'!E:E,'Détail Economies'!$A:$A,"E") -> 3.3
B18: Extinction des aides locales aux entreprises | C18: =SUM(E18,F18) -> 12.3 | D18: 400 | E18: =Flux!C24 -> 9.7 | F18: =Flux!E24 -> 2.6
B19: Économies sur les aides aux particuliers et aux associations | C19: =SUM(C20:C23) -> 27.5 | D19: 930 | E19: =SUM(E20:E23) -> 14.7 | F19: =SUM(F20:F23) -> 12.8
A20: M | B20: Extinction des chèques ciblés aux particuliers (dont APL) | C20: =SUM(E20,F20) -> 17.7 | D20: 600 | E20: =SUMIFS('Détail Economies'!D:D,'Détail Economies'!$A:$A,"M") -> 6.9 | F20: =SUMIFS('Détail Economies'!E:E,'Détail Economies'!$A:$A,"M") -> 10.8
A21: HU+AME | B21: Fin des aides inconditionnelles à l'hébergement et aux soins | C21: =SUM(E21,F21) -> 3.6 | D21: 130 | E21: =SUMIFS('Détail Economies'!D:D,'Détail Economies'!$A:$A,"HU")+SUMIFS('Détail Economies'!D:D,'Détail Economies'!$A:$A,"AME") -> 3.6 | F21: -
A22: A | B22: Extinction des subventions aux autres associations | C22: =SUM(E22,F22) -> 3.2 | D22: 100 | E22: =SUMIFS('Détail Economies'!D:D,'Détail Economies'!$A:$A,"A") -> 3.2 | F22: -
A23: APD | B23: Fin de l’aide publique au développement | C23: =SUM(E23,F23) -> 3 | D23: 100 | E23: =SUMIFS('Détail Economies'!D:D,'Détail Economies'!$A:$A,"APD") -> 1 | F23: =SUMIFS('Détail Economies'!E:E,'Détail Economies'!$A:$A,"APD") -> 2
B24: Économies sur les niches fiscales et sociales | C24: =C25+C26 -> 52.1 | D24: 1750 | E24: =E25+E26 -> 52.1 | F24: -
B25: Extinction des niches sur les revenus | C25: =Flux!C10+Flux!C13 -> 28.8 | D25: 970 | E25: =C25 -> 28.8 | F25: -
B26: Extinction des niches sur la TVA et les sociétés | C26: =Flux!C9+Flux!C11+Flux!C12 -> 23.3 | D26: 780 | E26: =C26 -> 23.3 | F26: -
B27: Assurance chômage transformée en épargne | C27: =SUM(E27,F27) -> 30 | D27: 1000 | E27: - | F27: ='Input Capitalisation'!E7 -> 30
B28: Patrimoine public valorisé et restitué (rendement net par an) | C28: =TRUNC(SUM(E28,F28)) -> 18 | D28: 600 | E28: - | F28: ='Input Capitalisation'!E10 -> 18.20918

Sheet CSG-CRDS
G2: Coût total pour les finances publiques (en Md€) | H2: CSG | I2: CSG + CRDS activité | J2: 1 pt CSG
G3: Données 2024 | H3: =J3*9.2 -> 108.56 | I3: =J3*9.7 -> 114.46 | J3: 11.8
F4: Point de vue des salariés (en €)
C5: Salaire actuel | D5: 1 pt CSG | E5: CSG | F5: Gain mensuel | G5: Gain en % | H5: CSG | I5: Gain annuel | J5: Gain annuel
C6: mensuel | D6: mensuel | E6: mensuel | F6: CSG+CRDS | G6: CSG+CRDS | H6: annuel | I6: (CSG+CRDS) | J6: 1pt CSG
B7: SMIC brut | C7: 1801.8 | D7: =C7*0.01*0.9825 -> 17.702685 | E7: =D7*9.2 -> 162.8647 | F7: =D7*9.7 -> 171.71604 | H7: =E7*12 -> 1954.3764 | I7: =F7*12 -> 2060.5925 | J7: =D7*12 -> 212.43222
B8: SMIC net | C8: 1426.3 | D8: =D7 -> 17.702685 | E8: =D8*9.2 -> 162.8647 | F8: =D8*9.7 -> 171.71604 | G8: =F8/C8 -> 0.12039266 | H8: =E8*12 -> 1954.3764 | I8: =F8*12 -> 2060.5925 | J8: =D8*12 -> 212.43222
B9: SMIC brut 01/2026 | C9: 1823 | D9: =C9*0.01*0.9825 -> 17.910975 | E9: =D9*9.2 -> 164.78097 | F9: =D9*9.7 -> 173.73646 | H9: =E9*12 -> 1977.3716 | I9: =F9*12 -> 2084.8375 | J9: =D9*12 -> 214.9317
B10: SMIC net 01/2026 | C10: 1443 | D10: =D9 -> 17.910975 | E10: =D10*9.2 -> 164.78097 | F10: =D10*9.7 -> 173.73646 | G10: =F10/C10 -> 0.12039949 | H10: =E10*12 -> 1977.3716 | I10: =F10*12 -> 2084.8375 | J10: =D10*12 -> 214.9317
B11: SMIC brut 06/2026 | C11: 1867 | D11: =C11*0.01*0.9825 -> 18.343275 | E11: =D11*9.2 -> 168.75813 | F11: =D11*9.7 -> 177.92977 | H11: =E11*12 -> 2025.0976 | I11: =F11*12 -> 2135.1572 | J11: =D11*12 -> 220.1193
B12: SMIC net 06/2026 | C12: 1478 | D12: =D11 -> 18.343275 | E12: =D12*9.2 -> 168.75813 | F12: =D12*9.7 -> 177.92977 | G12: =F12/C12 -> 0.1203855 | H12: =E12*12 -> 2025.0976 | I12: =F12*12 -> 2135.1572 | J12: =D12*12 -> 220.1193
B13: Net médian | C13: 2190 | D13: =D15*C13/C15 -> 28.358336 | E13: =D13*9.2 -> 260.8967 | F13: =D13*9.7 -> 275.07586 | G13: =F13/C13 -> 0.12560542 | H13: =E13*12 -> 3130.7603 | I13: =F13*12 -> 3300.9104 | J13: =D13*12 -> 340.30004
B14: Brut moyen | C14: 3602 | D14: =C14*0.01*0.9825 -> 35.38965 | E14: =D14*9.2 -> 325.58478 | F14: =D14*9.7 -> 343.27961 | G14: =F14/C14 -> 0.0953025 | H14: =E14*12 -> 3907.0174 | I14: =F14*12 -> 4119.3553 | J14: =D14*12 -> 424.6758
B15: Net moyen | C15: 2733 | D15: =D14 -> 35.38965 | E15: =D15*9.2 -> 325.58478 | F15: =D15*9.7 -> 343.27961 | G15: =F15/C15 -> 0.12560542 | H15: =E15*12 -> 3907.0174 | I15: =F15*12 -> 4119.3553 | J15: =D15*12 -> 424.6758
B16: Sources : service-public.gouv.fr ; Insee ; PLACSS 2024, Annexe 1 ; Calculs Résolution. Données 2024, SMIC 2025

Sheet Flux
C2: CSG+CRDS activité
B3: en Md€ | C3: ='CSG-CRDS'!I3 -> 114.46 | J3: Source : PLACSS 2024, Annexe 1
B5: Mesures d'économie | C5: Gain année 1 | E5: Gain supp. à terme | G5: Total supprimé à terme | H5: Autre gise-ment
B6: en Md€ | C6: =C8+C13+C15+C22+C27 -> 129.4 | D6: Effets | E6: =E8+E13+E15+E22+E27 -> 96.7 | F6: Commentaire | G6: =G8+G13+G15+G22 -> 226.2 | H6: =H8+H13+H15+H22+H27 -> 97 | I6: Commentaire | J6: Source
B8: Niches fiscales | C8: 43.1 | E8: 29.1 | F8: Refonte fiscalité | G8: 72.3 | H8: 53 | I8: Refonte fiscalité | J8: Calculs Résolution
B9: Taux réduits TVA | C9: 9.9 | D9: Transfert des consommateurs et secteurs soutenus vers les actifs | E9: 9.9 | F9: Compense suppressions de taxe | G9: 19.9 | H9: 33.4 | I9: Taux réduits généraux | J9: PLF 2026, Voies et moyens Tome 2 ; CPO, février 2023
B10: Impôt sur le revenu | C10: 19.8 | D10: Transfert des inactifs et revenus exonérés vers les actifs | E10: 7.2 | F10: Compense refonte fiscalité | G10: 27 | H10: 12.6 | I10: Affectés à l'aide unique | J10: PLF 2026, Voies et moyens Tome 2
B11: Impôt sur les sociétés | C11: 8.2 | D11: Transferts des secteurs soutenus vers les actifs | E11: 7.8 | F11: Compense suppressions de taxe | G11: 16 | J11: PLF 2026, Voies et moyens Tome 2
B12: Autres impôts et taxes | C12: 5.2 | D12: Transfert des consommateurs et secteurs soutenus vers les actifs | E12: 4.2 | F12: Compense refonte fiscalité | G12: 9.4 | H12: 7 | I12: Dont pacte Dutreil | J12: PLF 2026, Voies et moyens Tome 2
B13: Niches sociales | C13: 9 | D13: Transfert des revenus exonérés vers les actifs | E13: 9 | F13: Compense refonte fiscalité | G13: 18 | J13: Cour des comptes, RALFSS 2024, chapitre IV
B15: Economies Etat | C15: 44 | D15: Dont taxes affectées | E15: 38.5 | F15: Fléché sur la capitalisation | G15: 82.5 | H15: 44 | J15: Calculs Résolution
B16: Opérateurs (y. c. salaires) | C16: 14.5 | D16: Transfert des secteurs subventionnés et agents publics aux actifs | E16: =11+1.052*7/3 -> 13.454667 | F16: Effet aides en année pleine | G16: 28 | H16: 0.9 | J16: PLF 2026, données des PAP ; Voies et moyens Tome 1 ; BI 2025 France Compétences, France Travail et Ademe
B17: Chèques aux ménages | C17: 8.4 | D17: Transfert des bas revenus vers les actifs | E17: 11.5 | F17: Effet APL et exo en année pleine | G17: 19.9 | H17: 31.8 | I17: Affectés à l'aide unique | J17: PLF 2026, données des PAP
B18: Aides aux entreprises | C18: 8.4 | D18: Transfert des secteurs subventionnés vers les actifs | E18: 6.8 | F18: Effet aides en année pleine | G18: 15.2 | H18: 11.3 | I18: Dont énergie, agriculture | J18: PLF 2026, données des PAP
B19: Subventions aux associations | C19: 8 | D19: Transfert des secteurs associatifs et populations cibles aux actifs | E19: 4.6 | F19: Effet aides type entreprise | G19: 12.6 | H19: 0.4 | J19: PLF 2026, données des PAP
B20: Charges courantes et achats | C20: 3.8 | D20: Transfert des marchés publics vers les actifs | G20: =C20 -> 3.8 | J20: PLF 2026, données des PAP
B21: Départs fonctionnaires Etat | C21: 0.9 | D21: Transfert des agents publics (compensés à 70 %) vers les actifs | E21: =C21*7/3 -> 2.1 | G21: 3 | I21: Plus chèque éducation | J21: PLF 2026, données des PAP
B22: Economies Collectivités | C22: 33.3 | D22: Dont financements Etat | E22: 20.1 | F22: Fléché sur la capitalisation | G22: 53.4 | J22: Calculs Résolution
B23: Dépenses culturelles | C23: 11.6 | D23: Transfert des secteurs associatifs et populations cibles aux actifs | G23: =C23 -> 11.6 | J23: Insee, comptes de la nation 2023, données COFOG
B24: Aides aux entreprises | C24: 9.7 | D24: Transfert des secteurs subventionnés vers les actifs | E24: 2.6 | F24: Effet année pleine à terme | G24: 12.3 | J24: Insee, comptes de la nation 2023, données COFOG
B25: Charges courantes et achats | C25: 6.1 | D25: Transfert des marchés publics vers les actifs | E25: 3.5 | F25: Effet année pleine à terme | G25: 9.6 | J25: Insee, comptes de la nation 2023, données COFOG
B26: Départs fonctionnaires locaux | C26: 6 | D26: Transfert des agents publics (compensés à 70 %) vers les actifs | E26: =C26*7/3 -> 14 | G26: 20 | J26: Insee, comptes de la nation 2023, données COFOG
B28: Sources : PLF 2026, Voies et moyens Tomes 1 et 2, données des projets annuels de performance ; BI 2025 France Compétences, France Travail et Ademe ; CPO, février 2023 ; Cour des comptes, RALFSS 2024, chapitre IV ; Insee, comptes de la nation 2023, données COFOG ; Calculs Résolution.

Sheet Détail Niches
A1: Md€
B2: Données utilisées sur les dépenses fiscales (hors champ social) | F2: Niches supprimées pour CSG (Md€) | G2: Restitué en CSG | H2: Restitué en taxes | I2: Total supprimé | J2: Hypothèses | L2: Tous ménages | M2: Actifs | N2: Retraités | O2: Toutes entreprises | P2: Autres
C3: Nombre | D3: Md€ (2024) | F3: Niches fiscales | G3: =Flux!C8 -> 43.1 | H3: =Flux!E8 -> 29.1 | I3: 72.3 | J3: Hors outre-mer (sauf crédits et réductions d'impôt), hors agriculture | L3: =SUM(L4:L24) -> -17.275 | M3: =SUM(M4:M24) -> -7.8 | N3: =SUM(N4:N24) -> -4.8 | O3: =SUM(O4:O24) -> -20.425 | P3: =SUM(P4:P24) -> 0
B4: Niches fiscales recensées en PLF 2026 : | C4: 465 | D4: 89.406 | F4: Taux réduits TVA | G4: 9.9 | H4: 9.9 | I4: 19.9 | J4: Taux réduits ciblés recyclés à 50 % du coût | L4: =(-G4+SUM(G5:G7))/2 -> -0.95 | O4: =(-G4+SUM(G5:G7))/2 -> -0.95
B5: Niches fiscales augmentées de la TVA toutes APU : | C5: 465 | D5: 101.32099 | F5: dont travaux à 10 % et 5,5 % (y.c. HLM) | G5: 4.4 | H5: 4.4 | I5: 8.8 | L5: =-G5/2 -> -2.2 | O5: =-G5/2 -> -2.2
B6: Niches fiscales au fait générateur éteint : | C6: 47 | D6: 3.775 | F6: dont restauration-hôtellerie à 10 % | G6: 2.8 | H6: 2.8 | I6: 5.7 | L6: =-G6/2 -> -1.4 | O6: =-G6/2 -> -1.4
B7: Niches fiscales au fait générateur éteint fin 2025 : | C7: 35 | D7: 1.2987312 | F7: dont activités culturelles à 10 % et 5,5 % | G7: 0.8 | H7: 0.8 | I7: 1.6 | L7: =-G7/2 -> -0.4 | O7: =-G7/2 -> -0.4
B8: Taux réduits de TVA non comptabilisés en niche* : | C8: 21 | D8: 33.381877 | F8: Impôt sur le revenu | G8: 19.8 | H8: 7.2 | I8: 27 | J8: Abattements et assimilés recyclés à 100 %, reste à 50 % | L8: =-G8+SUM(G9:G13) -> -4.9
B9: Niches fiscales augmentées de la TVA toutes APU : | C9: 486 | D9: 134.70287 | F9: dont exonérations salariales | G9: 4.8 | H9: 3.4 | I9: 8.2 | J9: Dont intéressement, heures supplémentaires, titres restaurant, etc. | M9: =-G9 -> -4.8
B10: * Estimation du CPO, février 2023, p. 32, de 30 Md€ en 2021 dont 20 Md€ sur l'eau et l'alimentation | F10: dont abattement retraites 10 % | G10: 4.8 | I10: 4.8 | J10: Hors emploi à domicile et garde d'enfant | N10: =-G10 -> -4.8
B11: * Projection sur 2024 au pro-rata de la TVA dans les comptes nationaux de l'Insee | F11: dont épargne réglementée | G11: 3.3 | H11: 0.6 | I11: 2.7 | J11: Dont livret A, plans d'épargne, assurance vie, etc. | L11: =-G11 -> -3.3
F12: dont déductions travaux | G12: 1 | H12: 1 | I12: 2 | L12: =-G12 -> -1
F13: dont réductions dons | G13: 1 | H13: 1 | I13: 2 | J13: Suppression en 2 ans
F14: Impôt sur les sociétés | G14: 8.2 | H14: 7.8 | I14: 16 | J14: Crédits et réductions d'impôt recyclés à 50 % | O14: =-G14+SUM(G15:G19) -> -1.3
F15: dont crédit impôt recherche, innovation | G15: 4.1 | H15: 4.1 | I15: 8.1 | O15: =-G15 -> -4.1
F16: dont sociétés immobilières et HLM | G16: 1 | H16: 0.6 | I16: 1.6 | O16: =-G16 -> -1
F17: dont réductions dons | G17: 0.8 | H17: 0.8 | I17: 1.6 | J17: Suppression en 2 ans
F18: dont taux réduit propriété intellectuelle | G18: 0.6 | H18: 0.6 | I18: 1.2 | O18: =-G18 -> -0.6
F19: dont prêts à taux zéro | G19: 0.4 | H19: 0.4 | I19: 0.8 | L19: =-G19 -> -0.4
F20: Autres impôts et taxes | G20: 5.2 | H20: 4.2 | I20: 9.4 | J20: Hors outre-mer, hors agriculture | L20: =(-G20+SUM(G21:G23))/2 -> -0.65 | O20: =(-G20+SUM(G21:G23))/2 -> -0.65
F21: dont malus auto | G21: 1.7 | H21: 1.7 | I21: 3.3 | J21: Hybride, électrique, hydrogène, utilitaires, etc. | L21: =-G21 -> -1.7
F22: dont accises carburants (pro. et mén.) | G22: 1.5 | H22: 1.5 | I22: 2.9 | J22: Dont un quart sur les particuliers | L22: =-G22/4 -> -0.375 | O22: =-G22*3/4 -> -1.125
F23: dont énergo-intensifs | G23: 0.7 | H23: 0.7 | I23: 1.5 | O23: =-G23 -> -0.7
F24: Niches sociales | G24: 9 | H24: 9 | I24: 18 | J24: Rendement recyclé à 50 % | M24: =-G24/3 -> -3 | O24: =-G24*2/3 -> -6

Sheet Détail Economies
J1: Baisse d'ETP
C2: Economies en dépense (Md€) | D2: Restitué en CSG | E2: Solde à restituer | F2: Total supprimé | G2: Hypothèses | I2: Toutes APU | J2: 580000 | R2: Tous ménages | S2: Actifs | T2: Retraités | U2: Toutes entreprises | V2: Autres
C3: Economies Etat | D3: =Flux!C15 -> 44 | E3: =Flux!E15 -> 38.5 | F3: =Flux!G15 -> 82.5 | G3: Effets pleins à horizon estimé à 3 ans | I3: APUC | J3: 151000 | R3: =SUM(R4:R43) -> -18.9 | S3: =SUM(S4:S43) -> -10.15 | T3: =SUM(T4:T43) -> 0 | U3: =SUM(U4:U43) -> -17.75 | V3: =SUM(V4:V43) -> 0
C4: Opérateurs (y. c. salaires) | D4: =Flux!C16 -> 14.5 | E4: =Flux!E16 -> 13.454667 | F4: =Flux!G16 -> 28 | G4: Dont taxes affectées, hors éducation et 10 % socle, 70 % salaire maintenu
A5: AE | C5: dont France Compétences | D5: 3.8 | E5: 6.7 | F5: 10.6 | G5: Sortie aides en 3 ans | S5: =-D5/2 -> -1.9 | U5: =-D5/2 -> -1.9
A6: AE | C6: dont France Travail | D6: 2.2 | E6: =0.6+1.052*7/3 -> 3.0546667 | F6: =E6+D6 -> 5.2546667 | G6: Sortie aides en 3 ans | I6: France Travail | J6: =0.9*53200 -> 47880 | K6: MS année 1 : 1,052 Md€ d'économie | S6: =-D6/4 -> -0.55 | U6: =-D6/4 -> -0.55
A7: O | C7: dont CNC et subventions culturelles | D7: 1.3 | F7: 1.3
A8: O | C8: dont Agences de l'eau | D8: 0.7 | E8: 1.4 | F8: 2.1 | G8: Sortie aides en 3 ans
A9: O | C9: dont AFITF | D9: 0.7 | F9: 0.7 | G9: Hors entretien et projets ferroviers en cours
A10: O | C10: dont Action Logement | D10: 0.6 | E10: 1.3 | F10: 1.9 | G10: Sortie subventions en 3 ans
A11: E | C11: dont CCI et chambres d'agriculture | D11: 0.5 | F11: 0.5 | U11: =-D11 -> -0.5
A12: O | C12: dont Ademe | D12: 0.3 | E12: 0.6 | F12: 0.9 | G12: Extinction subventions en 3 ans
A13: O | C13: dont établissements publics fonciers | D13: 0.3 | F13: 0.3
A14: O | C14: dont Agence nationale de l'habitat | D14: 0.2 | E14: 0.2 | F14: 0.4
A15: O | C15: dont MaPrimeRénov' | D15: 1.3 | F15: 1.3
A16: O | C16: autres | D16: =D4-SUM(D5:D15) -> 2.6 | E16: =E4-SUM(E5:E15) -> 0.2 | F16: =F4-SUM(F5:F15) -> 2.7453333 | I16: hors FrTravail | J16: =0.9*46444 -> 41799.6
C17: Chèques aux ménages | D17: 8.4 | E17: 11.5 | F17: 19.9 | G17: Hors minima dont handicap, sortie APL en 3 ans
A18: M | C18: dont APL | D18: 5.4 | E18: 10.7 | F18: 16.1 | G18: Sortie en 3 ans (rythme d'extinction des baux privés) | R18: =-D18 -> -5.4
A19: AME | C19: dont AME | D19: 1.1 | F19: 1.1 | G19: Hors 10 % pour soins urgents
A20: M | C20: dont chèque énergie | D20: 0.6 | F20: 0.6 | R20: =-D20 -> -0.6
A21: AE | C21: dont exonérations emploi à domicile | D21: 0.4 | E21: 0.7 | F21: 1.1 | G21: Sortie des exonérations de charges sociales en 3 ans | R21: =-D21 -> -0.4
A22: M | C22: autres | D22: =D17-SUM(D18:D21) -> 0.9 | E22: =E17-SUM(E18:E21) -> 0.1 | F22: =F17-SUM(F18:F21) -> 1 | R22: =-D22 -> -0.9
C23: Aides aux entreprises | D23: 8.4 | E23: 6.8 | F23: 15.2
A24: AVP | C24: dont audiovisuel public | D24: 3.8 | F24: 3.8 | G24: Vente intégrale
A25: AE | C25: dont aides à l'emploi et à l'apprentissage | D25: 2.3 | E25: 4.6 | F25: 6.9 | G25: Sortie des aides en 3 ans | U25: =-D25 -> -2.3
A26: E | C26: dont France 2030 et aides à l'investissement | D26: 1.1 | E26: 2.1 | F26: 3.2 | G26: Extinction subventions en 3 ans | U26: =-D26 -> -1.1
A27: E | C27: autres | D27: =D23-SUM(D24:D26) -> 1.2 | E27: =E23-SUM(E24:E26) -> 0.1 | F27: =F23-SUM(F24:F26) -> 1.3 | U27: =-D27 -> -1.2
C28: Subventions aux associations | D28: 8 | E28: 4.6 | F28: 12.6
A29: HU | C29: dont hébergement d'urgence | D29: 2.5 | F29: 2.5 | G29: Hors socle de 20 % (femmes battues, enfants)
A30: APD | C30: dont aide publique au développement (APD) | D30: 1 | E30: 2 | F30: 3 | G30: Extinction subventions en 3 ans
A31: A | C31: dont immigration et asile | D31: 0.9 | F31: 0.9
A32: AE | C32: dont aide à l'emploi et à l'insertion | D32: 0.8 | E32: 1.5 | F32: 2.3 | G32: Sortie des aides en 3 ans | S32: =-D32 -> -0.8
A33: E | C33: dont France 2030 et aides à l'investissement | D33: 0.5 | E33: 1.1 | F33: 1.6 | G33: Extinction subventions en 3 ans | U33: =-D33 -> -0.5
A34: A | C34: dont subventions culturelles | D34: 0.5 | F34: 0.5
A35: A | C35: dont politique de la ville | D35: 0.4 | F35: 0.4
A36: A | C36: autres | D36: =D28-SUM(D29:D35) -> 1.4 | E36: =E28-SUM(E29:E35) -> 0 | F36: =F28-SUM(F29:F35) -> 1.4
A37: CG | C37: Charges courantes et achats | D37: 3.8 | F37: 3.8 | G37: Hors régalien et éducation, 80 % d'économies
A38: MS | C38: Départs fonctionnaires Etat | D38: 0.9 | E38: =D38*7/3 -> 2.1 | F38: 3 | G38: Hors régalien et éducation, 90 % de départs, 70 % salaire maintenu | I38: Etat | J38: 61400 | S38: =-D38 -> -0.9
C39: Economies Collectivités locales | D39: 33.3 | E39: 20.1 | F39: 53.4 | G39: Dont financements Etat
C40: Dépenses culturelles | D40: 11.6 | F40: 11.6 | G40: Hors investissements sportifs et socle social de 10 % | R40: =-D40 -> -11.6
...

Sheet Refonte fiscalité
B2: Schéma PO Résolution | C2: PIB | E2: Taux de PO | F2: PO
B3: 2024 | C3: 2919.9 | E3: =F3/C3 -> 0.42871331 | F3: 1251.8
B4: cible | E4: =F4/C3 -> 0.36328448 | F4: =F3-Flux!C22-Flux!C15-C66-C69 -> 1060.7544
E6: + suppression des CEE (6 à 8 Md€)
B8: https://www.insee.fr/fr/statistiques/8988845?sommaire=8988934
B9: 3.217 | F9: S | G9: G | H9: T | K9: H=-T-G-S
B10: (extraits) | C10: Montant | E10: Niches | F10: Solde brut | G10: Gisement à | H10: Taxes à | I10: Somme | J10: Solde à | K10: Hausses
B11: Md€ | C11: en 2024 | E11: restituées | F11: à restituer | G11: supprimer | H11: supprimer | I11: niches | J11: compenser | K11: d'équilibre
F12: post CSG
B13: Total | C13: =C15+C16+C29+C32+C34+C35+SUM(C37:C40) -> 624.9 | E13: =E15+E16+E29+E32+E34+E35+SUM(E37:E40) -> 72.4 | F13: =F15+F16+F29+F32+F34+F35+SUM(F37:F40) -> 29.2 | G13: =G15+G16+G29+G32+G34+G35+SUM(G37:G40) -> 40.1 | H13: =H15+H16+H29+H32+H34+H35+SUM(H37:H40) -> -137.05 | I13: =I15+I32+I34+I37 -> 97 | J13: =F13+G13+H13 -> -67.75 | K13: =K15+K34+K37+K40 -> 67.75
B15: TVA | C15: 206.3 | E15: 19.9 | F15: 9.9 | G15: 33 | I15: =E15+G15 -> 52.9
B16: Taxes sur la consommation* | C16: 105.1 | E16: =SUM(E17:E27) -> 7.7 | F16: =SUM(F17:F27) -> 3.9 | G16: =SUM(G17:G27) -> 1.8 | H16: =SUM(H17:H27) -> -26.1
B17: dont énergie* | C17: 43.7 | E17: 4.4 | F17: 2.2 | G17: 1.8 | H17: -8
B18: dont alcool, tabac, jeux | C18: 25.6 | H18: -0.3
B19: dont assurances | C19: 19.2
B20: dont redevances sur l'eau | C20: 2.2 | H20: =-C20 -> -2.2
B21: dont services de transports | C21: 1.9 | H21: =-C21 -> -1.9
B22: dont véhicules | C22: 3.1 | E22: 3.3 | F22: 1.7 | H22: -6.4
B23: dont numérique, spectacles | C23: 1.8 | H23: =-C23 -> -1.8
B24: dont autres taxes sur les produits | C24: 4.5 | H24: =-C24 -> -4.5
B25: dont taxe de séjour | C25: 1.1
B26: dont taxe pollution | C26: 1 | H26: -1
B27: dont outre-mer | C27: 1.6
B29: Taxes sur la main d'œuvre | C29: 58 | H29: -48
B30: dont forfaits de cotisation | C30: 8.8
B32: IR net | C32: 87.3 | E32: 27 | F32: 7.2 | I32: =E32+G32 -> 27
B34: IS net | C34: 57.4 | E34: 16 | F34: 7.8 | I34: =E34+G34 -> 16 | K34: =7/20*(SUM(C34:E34,G34)) -> 25.69
B35: Taxes sur chiffre d'affaires et bénéfices | C35: 10.3 | H35: =-C35 -> -10.3 | K35: 27pt IS
B37: Taxe foncière | C37: 42.9 | E37: 0.8 | G37: 0.3 | I37: =E37+G37 -> 1.1 | K37: =(-J13-K15-K34-K40) -> 42.06
B38: Autres taxes sur les ménages | C38: 6.5 | E38: 0.2 | F38: 0.1 | H38: =-C38-E38-G38 -> -6.7
B39: Autres taxes sur les entreprises | C39: 13.2 | E39: 0.3 | F39: 0.2 | H39: =-C39-E39-G39 -> -13.5
B40: Droits de mutation | C40: 37.9 | E40: 0.5 | F40: 0.1 | G40: 5 | H40: =H41+H42 -> -32.45
B41: à titre onéreux | C41: 17.1 | H41: =-C41+(C41/2-3.5) -> -12.05
B42: à titre gratuit | C42: 20.8 | E42: 0.5 | F42: 0.1 | G42: 5 | H42: =-C42-E42-F42-G42+(0.03*300-3) -> -20.4
H43: max (3%val>100k€; IR PV)
B44: *corrigé du bouclier tarifaire électricité
B47: Schéma de l'aide fondamentale universelle couplée à l'impôt sur le revenu uniformisé
B49: Population fiscale 2025 | C49: 63.4 | D49: M | F49: Aide fondamentale | J49: Taux unique d'IR brut estimé
B50: Adultes | C50: 50.4 | G50: 550 | H50: €/mois | K50: =(G58-C60+C75)/(C75/C76+'CSG-CRDS'!I3) -> 0.22736995
B51: Enfants | C51: 13.04
...

Sheet Input Capitalisation
A1: en Md€
C2: Actifs à valoriser et transférer | D2: => | E2: =SUM(E10,E4) -> 121.74918 | F2: Flux annuels à affecter
E4: =SUM( E5:E8) -> 103.54 | F4: Flux économisé affecté à la capitalisation
E5: =Flux!E15 -> 38.5 | F5: Economie budgétaire en année pleine
E6: =Flux!E22 -> 20.1 | F6: Economie locale en année pleine
E7: 30 | F7: Transformation assurance chômage (base de dépenses = 37,1 Md€)
E8: =Flux!C6-Flux!C3 -> 14.94 | F8: Economies année 1 reliquat post suppression CSG
D9: =>
B10: Total des actifs à restituer | C10: =SUM( C11:C14) -> 606.97267 | D10: 0.03 | E10: =C10*D10 -> 18.20918 | F10: Rendement net annuel des actifs rendus
B11: Participations financières | C11: =C26*0.95+D27*0.2 -> 201.915
B12: Patrimoine foncier public | C12: =C22*23.1/96.7+C21*23.1/(96.7-18.5*E20/E21) -> 200.19537
B13: Logements publics | C13: =C20*2/3*0.9 -> 51.96
B14: Parc social | C14: =(L27-C20)*2/3*0.9 -> 152.90229
B17: https://www.insee.fr/fr/statistiques/8988859?sommaire=8988934 | L17: https://www.union-habitat.org/les-hlm-en-chiffres
B19: Patrimoine net 2024 | C19: APU | D19: APUC | L19: Parc social | V19: €/m2
B20: Logements | C20: 86.6 | D20: 24.6 | E20: =D20*1000/18.5 -> 1329.7297 | F20: €/m2 | G20: 18,5 Mm2 | H20: logements Etat+opérateurs | L20: 4.8 | M20: M logement | V20: =SUM(W21:W27) -> 6.4519
B21: Bâtiments non résidentiels | C21: 386.4 | D21: 57.1 | E21: =(D21+D20)*1000/96.7 -> 844.88108 | F21: €/m2 | G21: 96,7 Mm2 | H21: Etat | I21: 23,1 Mm2 | J21: bureaux Etat+opérateurs | L21: =460/V20 -> 71.296827 | M21: m2 / logement | T21: PLAI | U21: 0.06 | V21: 6.13 | W21: =V21*U21 -> 0.3678
B22: terrains supportant le bâti | C22: =C23*(1-E23) -> 285.17724 | D22: =D23*(1-I23) -> 45.580887 | E22: =SUM(D20:D22)*1000/96.7 -> 1316.245 | F22: €/m2 | L22: =L21*L20 -> 342.22477 | M22: Mm2 parc | T22: HLMO | U22: 0.37 | V22: 5.53 | W22: =V22*U22 -> 2.0461
B23: Terrains supportant des constructions | C23: 902.8 | D23: 216.3 | E23: =1024.4/1497.4 -> 0.68411914 | F23: part génie civil/construction APU | I23: =306/387.7 -> 0.78927005 | J23: APUC | L23: 1500 | M23: €/m2 hypothèse | T23: HBM& | U23: 0.1 | V23: 5.79 | W23: =V23*U23 -> 0.579
B24: Terrains nus | C24: 134.6 | D24: 4.9 | E24: 4,2 Mha | F24: dont 1,9 Guyane, 1,8 ONF, 0,2 Clerl | L24: =L23*L22/1000 -> 513.33716 | M24: Md€ actif brut
B25: Actions/parts financières | C25: 735.5 | D25: 500.3 | E25: 209.1 | F25: portefeuille APE | L25: =L24/L20 -> 106.94524 | M25: k€/logement | T25: PLUS | U25: 0.42 | V25: 6.84 | W25: =V25*U25 -> 2.8728
B26: dont actions côtées | C26: 127.3 | D26: 95.4 | E26: 67.9 | F26: portefeuille coté APE | L26: 171.9 | M26: Md€ encours de dette | T26: PLS | U26: 0.05 | V26: 9.65 | W26: =V26*U26 -> 0.4825
B27: non côté | C27: =C25-C26 -> 608.2 | D27: =D25-D26 -> 404.9 | F27: EDF = 100 ? | L27: =L24-L26 -> 341.43716 | M27: Md€ actif net | T27: PLIS | U27: 0.01 | V27: 10.37 | W27: =V27*U27 -> 0.1037
D51: 2024
A52: NN | B52: Total des actifs non financiers (net) | D52: 2821.091
A53: N1N | B53: Actifs non financiers produits (net) | D53: 1763.89
A54: N11N | B54: Actifs fixes par type d’actifs (net) | D54: 1732.226
A55: N11KN | B55: Constructions (net) | D55: 1497.373
A56: N111N | B56: Logements (net) | D56: 86.56
A57: N112N | B57: Autres bâtiments et ouvrages de génie civil (net) | D57: 1410.813
A58: N1121N | B58: Bâtiments non résidentiels (net) | D58: 386.376
A59: N1122N | B59: Autres ouvrages de génie civil (net) | D59: 1024.437
A60: N113N | B60: Machines et équipements (net) | D60: 37.8
A61: N1131N | B61: Matériels de transport (net) | D61: 11.3
A62: N1132N | B62: Équipements TIC (net) | D62: 2.546
A63: N1139N | B63: Autres machines et équipements (net) | D63: 23.954
... A75: N2111N | B75: Terrains supportant des bâtiments et des ouvrages de génie civil (net) | D75: 902.765
A76: N2112N | B76: Terrains cultivés (net)
A77: N2113N | B77: Terrains et plans d’eau de loisirs (net) | D77: 5.198
A78: N2119N | B78: Autres terrains et plans d’eau (net) | D78: 134.614
...
